BEGIN:VCALENDAR
VERSION:2.0
PRODID:-//Tukios.com/
BEGIN:VEVENT
UID:09691f51-7d51-470b-a726-17e6601ce3c2@www.fairhavenmacon.com
DTSTAMP:20260425T202504Z
DTSTART:20260428
SUMMARY:Interment
DESCRIPTION:
URL:https://www.fairhavenmacon.com/obituaries/wanda-lore
LOCATION: 7070 Houston Rd  Macon GA 31216
GEO:32.706023;-83.696521
END:VEVENT
END:VCALENDAR