BEGIN:VCALENDAR
VERSION:2.0
PRODID:-//Tukios.com/
BEGIN:VEVENT
UID:8ad8a245-9e2b-48c9-a532-8b33f24f26f3@www.fairhavenmacon.com
DTSTAMP:20260425T201843Z
DTSTART:20260428T180000Z
DTEND:20260428T190000Z
SUMMARY:Visitation
DESCRIPTION:
URL:https://www.fairhavenmacon.com/obituaries/wanda-lore
LOCATION:FairHaven Funeral Home 4989 Mt Pleasant Church Rd  Macon GA 
	31216
GEO:32.7482675;-83.7329049
END:VEVENT
END:VCALENDAR