BEGIN:VCALENDAR
VERSION:2.0
PRODID:-//Tukios.com/
BEGIN:VEVENT
UID:e5dc910a-8ab7-4729-89fb-bafa98300e63@www.fairhavenmacon.com
DTSTAMP:20260425T202146Z
DTSTART:20260428T190000Z
DTEND:20260428T200000Z
SUMMARY:Funeral Service
DESCRIPTION:
URL:https://www.fairhavenmacon.com/obituaries/wanda-lore
LOCATION:Chapel of Fairhaven Funeral Home 4989 Mt Pleasant Church Rd  
	Macon GA 31216
GEO:32.7482675;-83.7329049
END:VEVENT
END:VCALENDAR