BEGIN:VCALENDAR
VERSION:2.0
PRODID:-//Tukios.com/
BEGIN:VEVENT
UID:d3c2cc32-bf88-4dde-afe7-28c3d77bee79@www.fairhavenmacon.com
DTSTAMP:20260423T004325Z
DTSTART:20260425T180000Z
DTEND:20260425T190000Z
SUMMARY:Celebration of Life
DESCRIPTION:
URL:https://www.fairhavenmacon.com/obituaries/richard-kearbey
LOCATION:Chapel of Fairhaven Funeral Home 4989 Mt Pleasant Church Rd  
	Macon GA 31216
GEO:32.7482675;-83.7329049
END:VEVENT
END:VCALENDAR