BEGIN:VCALENDAR
VERSION:2.0
PRODID:-//Tukios.com/
BEGIN:VEVENT
UID:9b1c73e9-6fec-4e7d-a75b-4472ff29c635@www.fairhavenmacon.com
DTSTAMP:20260423T005118Z
DTSTART:20260425T170000Z
DTEND:20260425T180000Z
SUMMARY:Visitation
DESCRIPTION:
URL:https://www.fairhavenmacon.com/obituaries/richard-kearbey
LOCATION:Chapel of Fairhaven Funeral Home 4989 Mt Pleasant Church Rd  
	Macon GA 31216
GEO:32.7482675;-83.7329049
END:VEVENT
END:VCALENDAR