BEGIN:VCALENDAR
VERSION:2.0
PRODID:-//Tukios.com/
BEGIN:VEVENT
UID:ea0f2a00-a708-42ff-b35b-e4593ed9cab2@www.fairhavenmacon.com
DTSTAMP:20260420T231411Z
DTSTART:20260423T140000Z
DTEND:20260423T150000Z
SUMMARY:Visitation
DESCRIPTION:
URL:https://www.fairhavenmacon.com/obituaries/larry-mckinney
LOCATION: 2950 S Lizella Rd  Lizella GA 31052
GEO:32.804682;-83.8193581
END:VEVENT
END:VCALENDAR