BEGIN:VCALENDAR
VERSION:2.0
PRODID:-//Tukios.com/
BEGIN:VEVENT
UID:5e1fddaa-5e7b-4bfc-a7fd-f33346e8c919@www.fairhavenmacon.com
DTSTAMP:20260420T231024Z
DTSTART:20260423T150000Z
DTEND:20260423T160000Z
SUMMARY:Graveside Celebration of Life
DESCRIPTION:
URL:https://www.fairhavenmacon.com/obituaries/larry-mckinney
LOCATION: 2950 S Lizella Rd  Lizella GA 31052
GEO:32.804682;-83.8193581
END:VEVENT
END:VCALENDAR