BEGIN:VCALENDAR
VERSION:2.0
PRODID:-//Tukios.com/
BEGIN:VEVENT
UID:7296c0d0-84f3-4f7a-85af-4d111ffb52cf@www.fairhavenmacon.com
DTSTAMP:20260420T222825Z
DTSTART:20260422T150000Z
DTEND:20260422T160000Z
SUMMARY:Celebration of Life
DESCRIPTION:
URL:https://www.fairhavenmacon.com/obituaries/kenneth-duffey
LOCATION:Chapel of Fairhaven Funeral Home 4989 Mt Pleasant Church Rd  
	Macon GA 31216
GEO:32.7482675;-83.7329049
END:VEVENT
END:VCALENDAR