BEGIN:VCALENDAR
VERSION:2.0
PRODID:-//Tukios.com/
BEGIN:VEVENT
UID:d26766fa-fe2e-45f8-9b58-fe5c6aae63c3@www.fairhavenmacon.com
DTSTAMP:20260424T084549Z
DTSTART:20260424T180000Z
DTEND:20260424T190000Z
SUMMARY:Visitation
DESCRIPTION:
URL:https://www.fairhavenmacon.com/obituaries/eleanor-johnson
LOCATION:United Community Church 2411 Heath Rd  Macon GA 31206
GEO:32.8286695;-83.7460072
END:VEVENT
END:VCALENDAR