BEGIN:VCALENDAR
VERSION:2.0
PRODID:-//Tukios.com/
BEGIN:VEVENT
UID:525c4e70-d3bf-486e-ae9e-f4247a3ee733@www.fairhavenmacon.com
DTSTAMP:20260424T091244Z
DTSTART:20260424T190000Z
DTEND:20260424T200000Z
SUMMARY:Funeral Service
DESCRIPTION:
URL:https://www.fairhavenmacon.com/obituaries/eleanor-johnson
LOCATION:United Community Church 2411 Heath Rd  Macon GA 31206
GEO:32.8286695;-83.7460072
END:VEVENT
END:VCALENDAR