BEGIN:VCALENDAR
VERSION:2.0
PRODID:-//Tukios.com/
BEGIN:VEVENT
UID:44fa55a5-3f7d-4ac1-8119-1afae74ad2cd@www.fairhavenmacon.com
DTSTAMP:20260422T000237Z
DTSTART:20260424T140000Z
DTEND:20260424T150000Z
SUMMARY:Visitation
DESCRIPTION:
URL:https://www.fairhavenmacon.com/obituaries/cynthia-moss
LOCATION:FairHaven Funeral Home 4989 Mt Pleasant Church Rd  Macon GA 
	31216
GEO:32.7482675;-83.7329049
END:VEVENT
END:VCALENDAR