BEGIN:VCALENDAR
VERSION:2.0
PRODID:-//Tukios.com/
BEGIN:VEVENT
UID:88d04e91-4de8-432d-92b4-717a3a179e88@www.fairhavenmacon.com
DTSTAMP:20260421T235654Z
DTSTART:20260424T150000Z
DTEND:20260424T160000Z
SUMMARY:Funeral Service
DESCRIPTION:
URL:https://www.fairhavenmacon.com/obituaries/cynthia-moss
LOCATION:Chapel of Fairhaven Funeral Home 4989 Mt Pleasant Church Rd  
	Macon GA 31216
GEO:32.7482675;-83.7329049
END:VEVENT
END:VCALENDAR