BEGIN:VCALENDAR
VERSION:2.0
PRODID:-//Tukios.com/
BEGIN:VEVENT
UID:0386286f-3a22-43ec-be1b-7d66306fa383@www.fairhavenmacon.com
DTSTAMP:20260425T175410Z
DTSTART:20260428T150000Z
DTEND:20260428T160000Z
SUMMARY:Funeral Service
DESCRIPTION:
URL:https://www.fairhavenmacon.com/obituaries/charles-nettles
LOCATION: 4301 Jordan Road  Byron GA 31008
GEO:32.696922;-83.776106
END:VEVENT
END:VCALENDAR