BEGIN:VCALENDAR
VERSION:2.0
PRODID:-//Tukios.com/
BEGIN:VEVENT
UID:c030fcb0-d317-4fff-9c2c-aa8110ec20d3@www.fairhavenmacon.com
DTSTAMP:20260425T175021Z
DTSTART:20260427T210000Z
DTEND:20260427T230000Z
SUMMARY:Visitation
DESCRIPTION:
URL:https://www.fairhavenmacon.com/obituaries/charles-nettles
LOCATION: 4989 Mt Pleasant Church Rd  Macon GA 31216
GEO:32.7483048;-83.7328829
END:VEVENT
END:VCALENDAR