BEGIN:VCALENDAR
VERSION:2.0
PRODID:-//Tukios.com/
BEGIN:VEVENT
UID:8e2052c4-db23-4c03-836a-fc581827ae58@www.fairhavenmacon.com
DTSTAMP:20260423T224826Z
DTSTART:20260425T220000Z
DTEND:20260426T000000Z
SUMMARY:Visitation
DESCRIPTION:
URL:https://www.fairhavenmacon.com/obituaries/betty-thompson
LOCATION:FairHaven Funeral Home 4989 Mt Pleasant Church Rd  Macon GA 
	31216
GEO:32.7482675;-83.7329049
END:VEVENT
END:VCALENDAR