BEGIN:VCALENDAR
VERSION:2.0
PRODID:-//Tukios.com/
BEGIN:VEVENT
UID:f04691d3-3a1c-41d6-9e51-3e0baa51f28d@www.fairhavenmacon.com
DTSTAMP:20260423T224826Z
DTSTART:20260426T190000Z
DTEND:20260426T200000Z
SUMMARY:Celebration of Life
DESCRIPTION:
URL:https://www.fairhavenmacon.com/obituaries/betty-thompson
LOCATION:Glen Haven Memorial Gardens 7070 Houston Road  Macon GA 31216
GEO:32.706023;-83.696521
END:VEVENT
END:VCALENDAR